BEGIN:VCALENDAR
VERSION:2.0
PRODID:-//FFMC 67 - ECPv6.15.17.1//NONSGML v1.0//EN
CALSCALE:GREGORIAN
METHOD:PUBLISH
X-WR-CALNAME:FFMC 67
X-ORIGINAL-URL:https://ffmc67.fr
X-WR-CALDESC:Évènements pour FFMC 67
REFRESH-INTERVAL;VALUE=DURATION:PT1H
X-Robots-Tag:noindex
X-PUBLISHED-TTL:PT1H
BEGIN:VTIMEZONE
TZID:Europe/Paris
BEGIN:DAYLIGHT
TZOFFSETFROM:+0100
TZOFFSETTO:+0200
TZNAME:CEST
DTSTART:20230326T010000
END:DAYLIGHT
BEGIN:STANDARD
TZOFFSETFROM:+0200
TZOFFSETTO:+0100
TZNAME:CET
DTSTART:20231029T010000
END:STANDARD
BEGIN:DAYLIGHT
TZOFFSETFROM:+0100
TZOFFSETTO:+0200
TZNAME:CEST
DTSTART:20240331T010000
END:DAYLIGHT
BEGIN:STANDARD
TZOFFSETFROM:+0200
TZOFFSETTO:+0100
TZNAME:CET
DTSTART:20241027T010000
END:STANDARD
BEGIN:DAYLIGHT
TZOFFSETFROM:+0100
TZOFFSETTO:+0200
TZNAME:CEST
DTSTART:20250330T010000
END:DAYLIGHT
BEGIN:STANDARD
TZOFFSETFROM:+0200
TZOFFSETTO:+0100
TZNAME:CET
DTSTART:20251026T010000
END:STANDARD
END:VTIMEZONE
BEGIN:VEVENT
DTSTART;TZID=Europe/Paris:20241215T100000
DTEND;TZID=Europe/Paris:20241215T143000
DTSTAMP:20260424T183204
CREATED:20241018T143130Z
LAST-MODIFIED:20241210T190658Z
UID:7032-1734256800-1734273000@ffmc67.fr
SUMMARY:Balade des Pères Noël 2024
DESCRIPTION:Balade des Mères et des Pères Noël à moto.\nMotos décorées et tenue de Noël de rigueur. \nParcours similaire à celui de l’année dernière :  Mundolsheim – Strasbourg – Duttlenheim. Possibilité de nous rejoindre à midi au foyer Charles Frey à Strasbourg – Neudorf pour la deuxième étape. \nCommuniqué de presse
URL:https://ffmc67.fr/evenement/balade-des-peres-noel-2024/
LOCATION:Carrefour (ancien Cora) Mundolsheim\, Station Service Carrefour\, Mundolsheim\, 67450\, France
ATTACH;FMTTYPE=image/jpeg:https://ffmc67.fr/wp-content/uploads/2024/10/Balade_PN2024_affiche.jpg
END:VEVENT
END:VCALENDAR