BEGIN:VCALENDAR
VERSION:2.0
PRODID:-//FFMC 67 - ECPv6.15.17.1//NONSGML v1.0//EN
CALSCALE:GREGORIAN
METHOD:PUBLISH
X-ORIGINAL-URL:https://ffmc67.fr
X-WR-CALDESC:Évènements pour FFMC 67
REFRESH-INTERVAL;VALUE=DURATION:PT1H
X-Robots-Tag:noindex
X-PUBLISHED-TTL:PT1H
BEGIN:VTIMEZONE
TZID:Europe/Paris
BEGIN:DAYLIGHT
TZOFFSETFROM:+0100
TZOFFSETTO:+0200
TZNAME:CEST
DTSTART:20240331T010000
END:DAYLIGHT
BEGIN:STANDARD
TZOFFSETFROM:+0200
TZOFFSETTO:+0100
TZNAME:CET
DTSTART:20241027T010000
END:STANDARD
BEGIN:DAYLIGHT
TZOFFSETFROM:+0100
TZOFFSETTO:+0200
TZNAME:CEST
DTSTART:20250330T010000
END:DAYLIGHT
BEGIN:STANDARD
TZOFFSETFROM:+0200
TZOFFSETTO:+0100
TZNAME:CET
DTSTART:20251026T010000
END:STANDARD
BEGIN:DAYLIGHT
TZOFFSETFROM:+0100
TZOFFSETTO:+0200
TZNAME:CEST
DTSTART:20260329T010000
END:DAYLIGHT
BEGIN:STANDARD
TZOFFSETFROM:+0200
TZOFFSETTO:+0100
TZNAME:CET
DTSTART:20261025T010000
END:STANDARD
END:VTIMEZONE
BEGIN:VEVENT
DTSTART;TZID=Europe/Paris:20250605T200000
DTEND;TZID=Europe/Paris:20250605T220000
DTSTAMP:20260422T025946
CREATED:20250508T083050Z
LAST-MODIFIED:20250514T162552Z
UID:7575-1749153600-1749160800@ffmc67.fr
SUMMARY:Réunion mensuelle
DESCRIPTION:Réunion d’information ouverte à tout le monde.\nAdhérent ou pas\, venez échanger avec le Comité de la FFMC 67 sur les sujets du moment.
URL:https://ffmc67.fr/evenement/reunion-mensuelle-3/
LOCATION:59 avenue des vosges \,STRASBOURG
ATTACH;FMTTYPE=image/jpeg:https://ffmc67.fr/wp-content/uploads/2025/05/FB_IMG_1747239851475.jpg
END:VEVENT
BEGIN:VEVENT
DTSTART;TZID=Europe/Paris:20250615T100000
DTEND;TZID=Europe/Paris:20250615T170000
DTSTAMP:20260422T025946
CREATED:20250508T080117Z
LAST-MODIFIED:20250611T132204Z
UID:7570-1749981600-1750006800@ffmc67.fr
SUMMARY:Village de la moto
DESCRIPTION:Venez rencontrer la FFMC 67 sur son stand pour discuter des sujets de la défense des motards : CT\, ZFE\, voie de covoiturage\, … \nLa gendarmerie nationale organise une formation « trajectoires de sécurité ». C’est une occasion pour ceux qui n’ont pas pu participer à nos journées trajectoires. Inscription préalable en ligne par ce formulaire : Formulaire d’inscription trajectoire de sécurité du 15/06/2025 à Chatenois
URL:https://ffmc67.fr/evenement/village-de-la-moto-2/
LOCATION:Eugene formation Chatenois\, Eugene formation\, ZA EST LIEU DIT GRUBE\, Chatenois\, 67730\, France
ATTACH;FMTTYPE=image/png:https://ffmc67.fr/wp-content/uploads/2025/05/Village-de-la-Moto-2025-scaled.png
END:VEVENT
BEGIN:VEVENT
DTSTART;TZID=Europe/Paris:20250621T100000
DTEND;TZID=Europe/Paris:20250621T150000
DTSTAMP:20260422T025946
CREATED:20250528T094416Z
LAST-MODIFIED:20250528T094709Z
UID:7636-1750500000-1750518000@ffmc67.fr
SUMMARY:Balade en side car AFTC Alsace
DESCRIPTION:On recherche une dizaine de side et/ou trike pour une balade solidaire d’environ 30 mns aux abords de Strasbourg.\n\n\nAvec l’association AFTC Alsace \, qui accompagne les personnes atteintes de cérébrolésion\, nous organisons une balade pour leur apporter un vent de liberté \n\n\nDate : 21 juin\, 10h-15h.\nLieu de départ : AFTC\, 10D Av. Achille Baumann\, 67400 Illkirch-Graffenstaden.\nRepas du midi offert .\n\n\n Vous avez un side/trike et souhaitez participer ?\nÉcrivez-nous \nContact – FFMC 67
URL:https://ffmc67.fr/evenement/balade-en-side-car-aftc-alsace/
ATTACH;FMTTYPE=image/jpeg:https://ffmc67.fr/wp-content/uploads/2025/05/balade_aftc_2025.jpg
END:VEVENT
BEGIN:VEVENT
DTSTART;TZID=Europe/Paris:20250627T190000
DTEND;TZID=Europe/Paris:20250627T213000
DTSTAMP:20260422T025946
CREATED:20250223T203832Z
LAST-MODIFIED:20250612T181522Z
UID:7381-1751050800-1751059800@ffmc67.fr
SUMMARY:Apéro Motards
DESCRIPTION:Quatrième apéro Motard(e) de l’année 2025 ! \nVenez rejoindre la FFMC 67 à Rosheim\, sur le parking de Moto Axxe\, pour un moment de convivialité et d’échange 😀 \nStand de boisson sur place.\nOn compte sur vous ✌️
URL:https://ffmc67.fr/evenement/apero-motards-11/
LOCATION:Atout Motos – Moto Axxe Rosheim\, Moto Axxe Rosheim\, 7 rue du maire Georges Baruch\, Rosheim\, 67560\, France
ATTACH;FMTTYPE=image/jpeg:https://ffmc67.fr/wp-content/uploads/2025/02/FB_IMG_1749751680012.jpg
END:VEVENT
BEGIN:VEVENT
DTSTART;TZID=Europe/Paris:20250629T090000
DTEND;TZID=Europe/Paris:20250629T160000
DTSTAMP:20260422T025946
CREATED:20250223T204535Z
LAST-MODIFIED:20250620T102358Z
UID:7383-1751187600-1751212800@ffmc67.fr
SUMMARY:Relais Calmos
DESCRIPTION:Avec la Gendarmerie et la Polizei\, la FFMC 67  organise une action de prévention et de sensibilisation à la sécurité routière. \nLa D3 allant de Wissembourg à Lembach et passant par le col du Pigeonnier est une route de montagne avec quelques virages pouvant présenter un danger pour les 2/3 roues motorisées. Il y a souvent des accidents. \nVenez faire une pause pour échanger avec la FFMC67\, les autres motards\, les forces de l’ordre ou juste pour boire un coup. Il y a du café chaud et des boissons fraîches. \n 
URL:https://ffmc67.fr/evenement/relais-calmos-5/
LOCATION:Col du pigeonnier\, col du pigeonnier\, Wissembourg\, 67160\, France
ATTACH;FMTTYPE=image/jpeg:https://ffmc67.fr/wp-content/uploads/2025/02/Calmos_2025.jpg
END:VEVENT
END:VCALENDAR