BEGIN:VCALENDAR
VERSION:2.0
PRODID:-//FFMC 67 - ECPv6.15.17.1//NONSGML v1.0//EN
CALSCALE:GREGORIAN
METHOD:PUBLISH
X-WR-CALNAME:FFMC 67
X-ORIGINAL-URL:https://ffmc67.fr
X-WR-CALDESC:Évènements pour FFMC 67
REFRESH-INTERVAL;VALUE=DURATION:PT1H
X-Robots-Tag:noindex
X-PUBLISHED-TTL:PT1H
BEGIN:VTIMEZONE
TZID:Europe/Paris
BEGIN:DAYLIGHT
TZOFFSETFROM:+0100
TZOFFSETTO:+0200
TZNAME:CEST
DTSTART:20240331T010000
END:DAYLIGHT
BEGIN:STANDARD
TZOFFSETFROM:+0200
TZOFFSETTO:+0100
TZNAME:CET
DTSTART:20241027T010000
END:STANDARD
BEGIN:DAYLIGHT
TZOFFSETFROM:+0100
TZOFFSETTO:+0200
TZNAME:CEST
DTSTART:20250330T010000
END:DAYLIGHT
BEGIN:STANDARD
TZOFFSETFROM:+0200
TZOFFSETTO:+0100
TZNAME:CET
DTSTART:20251026T010000
END:STANDARD
BEGIN:DAYLIGHT
TZOFFSETFROM:+0100
TZOFFSETTO:+0200
TZNAME:CEST
DTSTART:20260329T010000
END:DAYLIGHT
BEGIN:STANDARD
TZOFFSETFROM:+0200
TZOFFSETTO:+0100
TZNAME:CET
DTSTART:20261025T010000
END:STANDARD
END:VTIMEZONE
BEGIN:VEVENT
DTSTART;TZID=Europe/Paris:20250725T190000
DTEND;TZID=Europe/Paris:20250725T213000
DTSTAMP:20260422T011355
CREATED:20250630T104926Z
LAST-MODIFIED:20250723T103121Z
UID:7724-1753470000-1753479000@ffmc67.fr
SUMMARY:Apéro Motards
DESCRIPTION:Cinquième apéro Motard(e) de l’année 2025 ! \nVenez rejoindre la FFMC 67 à Lingolsheim\, sur la piste de plateau de l’Auto/Moto école Didier\, pour un moment de convivialité et d’échange 😀 \n Foodtruck Burger par FRESH BE Alsace !Stand de boissons \nOn compte sur vous ✌️
URL:https://ffmc67.fr/evenement/apero-motards-12/
LOCATION:Piste Moto École Didier\, Lingolsheim\, Piste Moto École Didier\, rue de Graffenstaden\, 67380 LINGOLSHEIM\, France
ATTACH;FMTTYPE=image/jpeg:https://ffmc67.fr/wp-content/uploads/2025/06/FB_IMG_1751921191189.jpg
END:VEVENT
END:VCALENDAR