BEGIN:VCALENDAR
VERSION:2.0
PRODID:-//FFMC 67 - ECPv6.15.17.1//NONSGML v1.0//EN
CALSCALE:GREGORIAN
METHOD:PUBLISH
X-WR-CALNAME:FFMC 67
X-ORIGINAL-URL:https://ffmc67.fr
X-WR-CALDESC:Évènements pour FFMC 67
REFRESH-INTERVAL;VALUE=DURATION:PT1H
X-Robots-Tag:noindex
X-PUBLISHED-TTL:PT1H
BEGIN:VTIMEZONE
TZID:Europe/Paris
BEGIN:DAYLIGHT
TZOFFSETFROM:+0100
TZOFFSETTO:+0200
TZNAME:CEST
DTSTART:20240331T010000
END:DAYLIGHT
BEGIN:STANDARD
TZOFFSETFROM:+0200
TZOFFSETTO:+0100
TZNAME:CET
DTSTART:20241027T010000
END:STANDARD
BEGIN:DAYLIGHT
TZOFFSETFROM:+0100
TZOFFSETTO:+0200
TZNAME:CEST
DTSTART:20250330T010000
END:DAYLIGHT
BEGIN:STANDARD
TZOFFSETFROM:+0200
TZOFFSETTO:+0100
TZNAME:CET
DTSTART:20251026T010000
END:STANDARD
BEGIN:DAYLIGHT
TZOFFSETFROM:+0100
TZOFFSETTO:+0200
TZNAME:CEST
DTSTART:20260329T010000
END:DAYLIGHT
BEGIN:STANDARD
TZOFFSETFROM:+0200
TZOFFSETTO:+0100
TZNAME:CET
DTSTART:20261025T010000
END:STANDARD
END:VTIMEZONE
BEGIN:VEVENT
DTSTART;TZID=Europe/Paris:20250817T093000
DTEND;TZID=Europe/Paris:20250817T160000
DTSTAMP:20260421T231421
CREATED:20250713T125810Z
LAST-MODIFIED:20250806T114040Z
UID:7752-1755423000-1755446400@ffmc67.fr
SUMMARY:Relais Calmos
DESCRIPTION:Faites une pause lors de vos balades. \n\nRendez vous dimanche 17 août au Col de la Charbonnière !\nVenez échanger avec la FFMC67> sécurité routière> partage de la route> sensibilisation\nUn café\, une boisson fraîche … et ça repart \n\n\n\n\nA propos des Relais Calmos : Les Relais Motards Calmos – Fédération Française des Motards en Colère (ffmc.asso.fr)
URL:https://ffmc67.fr/evenement/relais-calmos-6/
LOCATION:Col de la Charbonnière Breitenbach\, Col de la Charbonnière 67220 Breitenbach\, France
ATTACH;FMTTYPE=image/jpeg:https://ffmc67.fr/wp-content/uploads/2025/07/FB_IMG_1754255130818.jpg
END:VEVENT
BEGIN:VEVENT
DTSTART;TZID=Europe/Paris:20250829T190000
DTEND;TZID=Europe/Paris:20250829T213000
DTSTAMP:20260421T231421
CREATED:20250630T105150Z
LAST-MODIFIED:20250818T081143Z
UID:7726-1756494000-1756503000@ffmc67.fr
SUMMARY:Apéro Motards
DESCRIPTION:Rendez-vous pour notre apéro motard(e) d’août Cette fois ci du côté de Haguenau\, chez CK Motos\, 98 Rte de Marienthal\, 67500 Haguenau.\n Boissons Foodtruck burgers avec le Truck de Schotz  Bonne humeur !\nOn vous donne rendez vous le vendredi 29 août dès 19h 
URL:https://ffmc67.fr/evenement/apero-motards-13/
LOCATION:CK Motos Haguenau\, CK Motos\, 98 route Marienthal\, Haguenau\, 67500\, France
ATTACH;FMTTYPE=image/jpeg:https://ffmc67.fr/wp-content/uploads/2025/06/AM_CK_2015.jpg
END:VEVENT
END:VCALENDAR