BEGIN:VCALENDAR
VERSION:2.0
PRODID:-//FFMC 67 - ECPv6.15.17.1//NONSGML v1.0//EN
CALSCALE:GREGORIAN
METHOD:PUBLISH
X-ORIGINAL-URL:https://ffmc67.fr
X-WR-CALDESC:Évènements pour FFMC 67
REFRESH-INTERVAL;VALUE=DURATION:PT1H
X-Robots-Tag:noindex
X-PUBLISHED-TTL:PT1H
BEGIN:VTIMEZONE
TZID:Europe/Paris
BEGIN:DAYLIGHT
TZOFFSETFROM:+0100
TZOFFSETTO:+0200
TZNAME:CEST
DTSTART:20240331T010000
END:DAYLIGHT
BEGIN:STANDARD
TZOFFSETFROM:+0200
TZOFFSETTO:+0100
TZNAME:CET
DTSTART:20241027T010000
END:STANDARD
BEGIN:DAYLIGHT
TZOFFSETFROM:+0100
TZOFFSETTO:+0200
TZNAME:CEST
DTSTART:20250330T010000
END:DAYLIGHT
BEGIN:STANDARD
TZOFFSETFROM:+0200
TZOFFSETTO:+0100
TZNAME:CET
DTSTART:20251026T010000
END:STANDARD
BEGIN:DAYLIGHT
TZOFFSETFROM:+0100
TZOFFSETTO:+0200
TZNAME:CEST
DTSTART:20260329T010000
END:DAYLIGHT
BEGIN:STANDARD
TZOFFSETFROM:+0200
TZOFFSETTO:+0100
TZNAME:CET
DTSTART:20261025T010000
END:STANDARD
END:VTIMEZONE
BEGIN:VEVENT
DTSTART;TZID=Europe/Paris:20250904T200000
DTEND;TZID=Europe/Paris:20250904T220000
DTSTAMP:20260421T211545
CREATED:20250812T152126Z
LAST-MODIFIED:20250830T094424Z
UID:7826-1757016000-1757023200@ffmc67.fr
SUMMARY:Réunion mensuelle
DESCRIPTION:Réunion d’information ouverte à tout le monde. \nAdhérent ou pas\, venez discuter avec le Comité de la FFMC 67 des sujets du moment\, des prochaines actions\, donner vos idées …
URL:https://ffmc67.fr/evenement/reunion-mensuelle-4/
LOCATION:59 avenue des vosges \,STRASBOURG
ATTACH;FMTTYPE=image/jpeg:https://ffmc67.fr/wp-content/uploads/2025/08/FB_IMG_1756545795958.jpg
END:VEVENT
BEGIN:VEVENT
DTSTART;VALUE=DATE:20250913
DTEND;VALUE=DATE:20250915
DTSTAMP:20260421T211545
CREATED:20250616T090513Z
LAST-MODIFIED:20250806T114916Z
UID:7681-1757721600-1757894399@ffmc67.fr
SUMMARY:Biker’s Solidarity Week
DESCRIPTION:Biker’s Solidarity Week à Marckolsheim \nLa FFMC propose une consigne de casque sur son stand. \n 
URL:https://ffmc67.fr/evenement/bikers-solidarity-week-2/
LOCATION:Markolsheim\, Memorial ligne Maginot\, route du Rhin\, Markolsheim\, 67390\, France
ATTACH;FMTTYPE=image/jpeg:https://ffmc67.fr/wp-content/uploads/2025/06/BSW_2025-1.jpg
END:VEVENT
BEGIN:VEVENT
DTSTART;TZID=Europe/Paris:20250913T140000
DTEND;TZID=Europe/Paris:20250913T170000
DTSTAMP:20260421T211545
CREATED:20250806T115629Z
LAST-MODIFIED:20250818T084118Z
UID:7806-1757772000-1757782800@ffmc67.fr
SUMMARY:Partage de la route
DESCRIPTION:Distribution de flyers au carrefour Auchan Illkirch afin de sensibiliser les automobilistes au partage de la route avec les motards. \nAppel aux bénévoles !\nNous recherchons quelques volontaires pour nous accompagner. Merci de nous contacter.
URL:https://ffmc67.fr/evenement/partage-de-la-route-6/
LOCATION:Feu Auchan Illkirch
ATTACH;FMTTYPE=image/png:https://ffmc67.fr/wp-content/uploads/2021/05/1regard10.png
END:VEVENT
BEGIN:VEVENT
DTSTART;TZID=Europe/Paris:20250926T190000
DTEND;TZID=Europe/Paris:20250926T213000
DTSTAMP:20260421T211545
CREATED:20250630T105344Z
LAST-MODIFIED:20250921T132633Z
UID:7728-1758913200-1758922200@ffmc67.fr
SUMMARY:Apéro Motards
DESCRIPTION:Apéro Motards sur le parking de Kit moto à Souffelweyersheim avec le foodtruck « Le Comptoir Libanais ».
URL:https://ffmc67.fr/evenement/apero-motards-14/
LOCATION:Kit Moto\, 28 rue des Tuileries\, Souffelweyersheim\, 67460\, France
ATTACH;FMTTYPE=image/jpeg:https://ffmc67.fr/wp-content/uploads/2025/06/FB_IMG_1756546203869.jpg
END:VEVENT
BEGIN:VEVENT
DTSTART;TZID=Europe/Paris:20250927T140000
DTEND;TZID=Europe/Paris:20250927T170000
DTSTAMP:20260421T211545
CREATED:20250714T151307Z
LAST-MODIFIED:20250923T084257Z
UID:7756-1758981600-1758992400@ffmc67.fr
SUMMARY:Manifestation - Mobilité pour Tous
DESCRIPTION:📣🚨 Manif annoncée – Venez montrer que les motard(e)s sont toujours sur le front ! 🏍 \n👉 Le 27 septembre 2025\, retrouvons-nous tous ensemble pour dire NON à l’exclusion et OUI à la mobilité pour tous !\nParce que se déplacer n’est pas un privilège\, mais une nécessité pour travailler\, vivre\, voir nos proches. \n➡️ Mobilisation nationale\, organisée par la FFMC – Fédération Française des Motards en Colère\, avec le soutien de la Ligue de Défense des Conducteurs et Les Geux. \n✊ Liberté et Solidarité : Mobilité pour TOUS ! \nRassemblement à 14h\, à Entzheim\, rue des cigognes\, arrivée à Strasbourg vers 16h30. \n \n« Liberté\, égalité\, mobilité pour tous ! » – Fédération Française des Motards en Colère
URL:https://ffmc67.fr/evenement/manifestation/
LOCATION:Entzheim\, rue des cigognes\, Rue des cigognes\, Entzheim\, France
ATTACH;FMTTYPE=image/jpeg:https://ffmc67.fr/wp-content/uploads/2025/07/FB_IMG_1756545826689.jpg
END:VEVENT
END:VCALENDAR