BEGIN:VCALENDAR
VERSION:2.0
PRODID:-//FFMC 67 - ECPv6.15.17.1//NONSGML v1.0//EN
CALSCALE:GREGORIAN
METHOD:PUBLISH
X-WR-CALNAME:FFMC 67
X-ORIGINAL-URL:https://ffmc67.fr
X-WR-CALDESC:Évènements pour FFMC 67
REFRESH-INTERVAL;VALUE=DURATION:PT1H
X-Robots-Tag:noindex
X-PUBLISHED-TTL:PT1H
BEGIN:VTIMEZONE
TZID:Europe/Paris
BEGIN:DAYLIGHT
TZOFFSETFROM:+0100
TZOFFSETTO:+0200
TZNAME:CEST
DTSTART:20240331T010000
END:DAYLIGHT
BEGIN:STANDARD
TZOFFSETFROM:+0200
TZOFFSETTO:+0100
TZNAME:CET
DTSTART:20241027T010000
END:STANDARD
BEGIN:DAYLIGHT
TZOFFSETFROM:+0100
TZOFFSETTO:+0200
TZNAME:CEST
DTSTART:20250330T010000
END:DAYLIGHT
BEGIN:STANDARD
TZOFFSETFROM:+0200
TZOFFSETTO:+0100
TZNAME:CET
DTSTART:20251026T010000
END:STANDARD
BEGIN:DAYLIGHT
TZOFFSETFROM:+0100
TZOFFSETTO:+0200
TZNAME:CEST
DTSTART:20260329T010000
END:DAYLIGHT
BEGIN:STANDARD
TZOFFSETFROM:+0200
TZOFFSETTO:+0100
TZNAME:CET
DTSTART:20261025T010000
END:STANDARD
END:VTIMEZONE
BEGIN:VEVENT
DTSTART;TZID=Europe/Paris:20251214T090000
DTEND;TZID=Europe/Paris:20251214T130000
DTSTAMP:20260421T154343
CREATED:20251002T190140Z
LAST-MODIFIED:20251201T150644Z
UID:7937-1765702800-1765717200@ffmc67.fr
SUMMARY:Balade des Pères Noël 2025
DESCRIPTION:🤶🏻🎅 La balade des pères et mères Noël 2025 arrive !!! \nRdv dès 9h à Carrefour Mundolsheim (ex Cora)\, côté essence pour un départ à 9h30\nDirection le foyer pour enfants et la distribution de cadeaux 🎁 ! \nDéposez dès maintenant les cadeaux chez : \n\nDAFY Moto Souffelweyersheim\nMoto Axxe Rosheim\n\nLes enfants ont entre 5 et 15 ans. Pas de peluche.\nMerci à tous et toutes pour votre participation ❤️
URL:https://ffmc67.fr/evenement/balade-des-peres-noel-2025/
LOCATION:Carrefour (ancien Cora) Mundolsheim\, Station Service Carrefour\, Mundolsheim\, 67450\, France
ATTACH;FMTTYPE=image/jpeg:https://ffmc67.fr/wp-content/uploads/2023/12/perenoel2023_12-scaled.jpg
END:VEVENT
END:VCALENDAR