BEGIN:VCALENDAR
VERSION:2.0
PRODID:-//FFMC 67 - ECPv6.15.17.1//NONSGML v1.0//EN
CALSCALE:GREGORIAN
METHOD:PUBLISH
X-ORIGINAL-URL:https://ffmc67.fr
X-WR-CALDESC:Évènements pour FFMC 67
REFRESH-INTERVAL;VALUE=DURATION:PT1H
X-Robots-Tag:noindex
X-PUBLISHED-TTL:PT1H
BEGIN:VTIMEZONE
TZID:Europe/Paris
BEGIN:DAYLIGHT
TZOFFSETFROM:+0100
TZOFFSETTO:+0200
TZNAME:CEST
DTSTART:20250330T010000
END:DAYLIGHT
BEGIN:STANDARD
TZOFFSETFROM:+0200
TZOFFSETTO:+0100
TZNAME:CET
DTSTART:20251026T010000
END:STANDARD
BEGIN:DAYLIGHT
TZOFFSETFROM:+0100
TZOFFSETTO:+0200
TZNAME:CEST
DTSTART:20260329T010000
END:DAYLIGHT
BEGIN:STANDARD
TZOFFSETFROM:+0200
TZOFFSETTO:+0100
TZNAME:CET
DTSTART:20261025T010000
END:STANDARD
BEGIN:DAYLIGHT
TZOFFSETFROM:+0100
TZOFFSETTO:+0200
TZNAME:CEST
DTSTART:20270328T010000
END:DAYLIGHT
BEGIN:STANDARD
TZOFFSETFROM:+0200
TZOFFSETTO:+0100
TZNAME:CET
DTSTART:20271031T010000
END:STANDARD
END:VTIMEZONE
BEGIN:VEVENT
DTSTART;TZID=Europe/Paris:20260108T200000
DTEND;TZID=Europe/Paris:20260108T220000
DTSTAMP:20260421T134840
CREATED:20251205T160155Z
LAST-MODIFIED:20251220T170240Z
UID:8046-1767902400-1767909600@ffmc67.fr
SUMMARY:Réunion publique mensuelle
DESCRIPTION:Réunion d’information ouverte à tout le monde.\nAdhérent ou pas\, venez discuter avec le Comité de la FFMC 67 des sujets du moment\, des prochaines actions et donner vos idées …\nA la fin on partagera une galette des rois. \n 
URL:https://ffmc67.fr/evenement/reunion-mensuelle-5/
LOCATION:59 avenue des vosges \,STRASBOURG
ATTACH;FMTTYPE=image/jpeg:https://ffmc67.fr/wp-content/uploads/2025/01/mensuelle2.jpg
END:VEVENT
END:VCALENDAR